BEGIN:VCALENDAR
VERSION:2.0
PRODID:-//Servicios de acompañamiento - Clara Sureda - ECPv6.6.0.2//NONSGML v1.0//EN
CALSCALE:GREGORIAN
METHOD:PUBLISH
X-ORIGINAL-URL:https://clarasureda.com
X-WR-CALDESC:Eventos para Servicios de acompañamiento - Clara Sureda
REFRESH-INTERVAL;VALUE=DURATION:PT1H
X-Robots-Tag:noindex
X-PUBLISHED-TTL:PT1H
BEGIN:VTIMEZONE
TZID:Europe/Madrid
BEGIN:DAYLIGHT
TZOFFSETFROM:+0100
TZOFFSETTO:+0200
TZNAME:CEST
DTSTART:20250330T010000
END:DAYLIGHT
BEGIN:STANDARD
TZOFFSETFROM:+0200
TZOFFSETTO:+0100
TZNAME:CET
DTSTART:20251026T010000
END:STANDARD
END:VTIMEZONE
BEGIN:VEVENT
DTSTART;TZID=Europe/Madrid:20250528T143000
DTEND;TZID=Europe/Madrid:20250601T170000
DTSTAMP:20260421T211347
CREATED:20250224T103950Z
LAST-MODIFIED:20250303T091158Z
UID:22060-1748442600-1748797200@clarasureda.com
SUMMARY:Retiro transformador de parejas "The Wholeness Retreat"
DESCRIPTION:🌟 ¡Bienvenidos a un retiro transformador para parejas de 5 días\, del 28 de mayo al 1 de junio! 🌿✨ \nSumérgete en un viaje de sanación\, crecimiento e integración de las energías femeninas y masculinas. \nNuestra visión es guiarte hacia una conexión más profunda y significativa con tu pareja y tu vida\, respaldada por terapias holísticas\, energéticas y la sabiduría ancestral que hemos desarrollado en nuestros propios caminos. \nEste retiro es una invitación a abrazar la totalidad\, integrando todos los aspectos de ti mismo\, trascendiendo dualidades y disolviendo la separación. Juntos\, estamos co-creando una Nueva Era de crecimiento\, compartir y expansión. Ubicado en una impresionante villa rural en Granada\, con habitaciones dobles de lujo\, este entorno sereno es el lugar perfecto para relajarse y conectarse a niveles profundos. \nNuestro programa está diseñado para ayudarte a elevar tu energía\, armonizar tu relación y profundizar en la intimidad. A través de prácticas en pareja\, rituales sagrados\, ceremonias\, círculos de compartir y tiempo de calidad para disfrutar con tu pareja\, conectar con la naturaleza o relajarte en el spa\, explorarás cómo trascender los patrones condicionados de relacionarte hacia una versión más expandida de tu relación. \nEste retiro trata de amor\, confianza y devoción\, creando recuerdos inolvidables que resonarán en tu alma. Rodeado por el suave abrazo de la naturaleza\, es una oportunidad para encontrar la paz y la quietud que buscas. Nuestra intención es cultivar una mayor conciencia del amor\, entendiendo que una relación puede ser un camino profundo hacia el crecimiento espiritual. \nEscríbenos para más información. \n_____________________________________________________________ \n  \nWelcome to a transformative couples retreat\, a 5 days journey of healing\, growth\, and integration of feminine and masculine energies. \nOur vision is to guide you toward a deeper\, more soulful connection with your partner and your life\, supported by the holistic and energetic therapies and ancient wisdom that we have developed in on our own paths. \nThis retreat is an invitation to embrace wholeness\, integrating all aspects of yourself\, transcending dualities\, and dissolving separation. Together\, we are co-creating a New Era of growth\, sharing\, and expansion. Set in a stunning countryside villa in Granada with luxury double rooms\, this serene environment is the perfect place to relax\, and connect on profound levels. \nOur program is designed to help you raise your energy\, harmonize your relationship\, and deepen your intimacy. Through couple practices\, sacred rituals\, ceremonies\, sharing circles\, and also quality time to connect with your partner\, enjoy nature or relax in spa\, you will explore how to move beyond conditioned patterns of relating into a more expanded version of your relationship. \nThis retreat is about love\, trust\, and devotion\, creating unforgettable memories that will resonate in your soul. Surrounded by nature’s gentle embrace\, it is an opportunity to find the peace and stillness you seek. Our intention is to cultivate greater awareness of love\, understanding that a relationship can be a profound path to spiritual growth. \n🪶💫ASK FOR MORE INFORMATION 🦋
URL:https://clarasureda.com/event/retiro-transformador-de-parejas-the-wholeness-retreat/
CATEGORIES:Origens
ATTACH;FMTTYPE=image/png:https://clarasureda.com/wp-content/uploads/2025/02/Instagram-post-retreat-1.png
END:VEVENT
END:VCALENDAR