BEGIN:VCALENDAR
VERSION:2.0
PRODID:-//Servicios de acompañamiento - Clara Sureda - ECPv6.6.0.2//NONSGML v1.0//EN
CALSCALE:GREGORIAN
METHOD:PUBLISH
X-ORIGINAL-URL:https://clarasureda.com
X-WR-CALDESC:Eventos para Servicios de acompañamiento - Clara Sureda
REFRESH-INTERVAL;VALUE=DURATION:PT1H
X-Robots-Tag:noindex
X-PUBLISHED-TTL:PT1H
BEGIN:VTIMEZONE
TZID:Europe/Madrid
BEGIN:DAYLIGHT
TZOFFSETFROM:+0100
TZOFFSETTO:+0200
TZNAME:CEST
DTSTART:20240331T010000
END:DAYLIGHT
BEGIN:STANDARD
TZOFFSETFROM:+0200
TZOFFSETTO:+0100
TZNAME:CET
DTSTART:20241027T010000
END:STANDARD
END:VTIMEZONE
BEGIN:VEVENT
DTSTART;TZID=Europe/Madrid:20240901T100000
DTEND;TZID=Europe/Madrid:20240901T140000
DTSTAMP:20260424T133644
CREATED:20240821T094006Z
LAST-MODIFIED:20240821T094044Z
UID:22040-1725184800-1725199200@clarasureda.com
SUMMARY:Taller de Constelaciones Familiares
DESCRIPTION:¿Cómo nos relacionamos con nuestro sistema de origen? ¿Desde la fuerza o desde el sufrimiento? \nEste taller es un espacio para sanar a nivel individual y colectivo\, ayudándote a reconocer y dar luz a situaciones dolorosas de tu historia familiar que te pueden estar limitando a tu vida \n 
URL:https://clarasureda.com/event/taller-de-constelaciones-familiares-2/
CATEGORIES:Origens
ATTACH;FMTTYPE=image/jpeg:https://clarasureda.com/wp-content/uploads/2024/08/Imagen-de-WhatsApp-2024-08-21-a-las-10.36.36_9a94a834.jpg
END:VEVENT
END:VCALENDAR