BEGIN:VCALENDAR
VERSION:2.0
PRODID:-//Servicios de acompañamiento - Clara Sureda - ECPv6.6.0.2//NONSGML v1.0//EN
CALSCALE:GREGORIAN
METHOD:PUBLISH
X-WR-CALNAME:Servicios de acompañamiento - Clara Sureda
X-ORIGINAL-URL:https://clarasureda.com
X-WR-CALDESC:Eventos para Servicios de acompañamiento - Clara Sureda
REFRESH-INTERVAL;VALUE=DURATION:PT1H
X-Robots-Tag:noindex
X-PUBLISHED-TTL:PT1H
BEGIN:VTIMEZONE
TZID:Europe/Madrid
BEGIN:DAYLIGHT
TZOFFSETFROM:+0100
TZOFFSETTO:+0200
TZNAME:CEST
DTSTART:20250330T010000
END:DAYLIGHT
BEGIN:STANDARD
TZOFFSETFROM:+0200
TZOFFSETTO:+0100
TZNAME:CET
DTSTART:20251026T010000
END:STANDARD
END:VTIMEZONE
BEGIN:VEVENT
DTSTART;TZID=Europe/Madrid:20250306T180000
DTEND;TZID=Europe/Madrid:20250306T200000
DTSTAMP:20260422T003616
CREATED:20250303T092529Z
LAST-MODIFIED:20250303T092759Z
UID:22065-1741284000-1741291200@clarasureda.com
SUMMARY:Sesión de Breathwork
DESCRIPTION:¿Qué es una sesión de breathwork?\nUna sesión de breathwork es una técnica de respiración cuyo objetivo es generar un flujo que permita la liberación de emociones y recuerdos estancados. Es una herramienta poderosa para sanar heridas del pasado y dolores emocionales profundamente arraigados. \nLa sesión tiene una duración de dos horas. Los grupos son muy reducidos\, por lo que será muy importante la inscripción previa.
URL:https://clarasureda.com/event/sesion-de-breathwork/
CATEGORIES:Origens
ATTACH;FMTTYPE=image/jpeg:https://clarasureda.com/wp-content/uploads/2025/03/Clara-73-scaled.jpg
END:VEVENT
END:VCALENDAR