BEGIN:VCALENDAR
VERSION:2.0
PRODID:-//Servicios de acompañamiento - Clara Sureda - ECPv6.6.0.2//NONSGML v1.0//EN
CALSCALE:GREGORIAN
METHOD:PUBLISH
X-WR-CALNAME:Servicios de acompañamiento - Clara Sureda
X-ORIGINAL-URL:https://clarasureda.com
X-WR-CALDESC:Eventos para Servicios de acompañamiento - Clara Sureda
REFRESH-INTERVAL;VALUE=DURATION:PT1H
X-Robots-Tag:noindex
X-PUBLISHED-TTL:PT1H
BEGIN:VTIMEZONE
TZID:Europe/Madrid
BEGIN:DAYLIGHT
TZOFFSETFROM:+0100
TZOFFSETTO:+0200
TZNAME:CEST
DTSTART:20240331T010000
END:DAYLIGHT
BEGIN:STANDARD
TZOFFSETFROM:+0200
TZOFFSETTO:+0100
TZNAME:CET
DTSTART:20241027T010000
END:STANDARD
END:VTIMEZONE
BEGIN:VEVENT
DTSTART;TZID=Europe/Madrid:20240808T190000
DTEND;TZID=Europe/Madrid:20240808T210000
DTSTAMP:20260424T133420
CREATED:20240731T101635Z
LAST-MODIFIED:20240819T104013Z
UID:22022-1723143600-1723150800@clarasureda.com
SUMMARY:Sesión grupal de Holosomátic Breathwork
DESCRIPTION:Breathwork holosomátic + Portal Energético 8/8/8 \nEste día 8/8/2024 es percibido como una ventana abierta entre el mundo físico y el espiritual\, facilitando la conexión con nuestras verdades internas más profundas y nuestras aspiraciones más elevadas. \nEs por esto que nos complace anunciar nuestro próximo taller de respiración consciente en esta maravillosa fecha!\nSerá una oportunidad ideal para revisar nuestro camino de vida\, liberar patrones que ya no nos sirven y alinearnos con nuestra esencia verdadera\, promoviendo la introspección profunda\, la sanación emocional y la manifestación consciente de nuestros deseos y sueños. \n 
URL:https://clarasureda.com/event/sesion-grupal-de-holosomatic-breathwork/
CATEGORIES:Origens
ATTACH;FMTTYPE=image/png:https://clarasureda.com/wp-content/uploads/2024/07/BREATHWORK-SESION-8-agosto.png
END:VEVENT
BEGIN:VEVENT
DTSTART;TZID=Europe/Madrid:20240810T100000
DTEND;TZID=Europe/Madrid:20240810T140000
DTSTAMP:20260424T133420
CREATED:20240803T164423Z
LAST-MODIFIED:20240803T164423Z
UID:22029-1723284000-1723298400@clarasureda.com
SUMMARY:Taller de Constelaciones Familiares
DESCRIPTION:“Aquello que podemos reconocer\, apreciar y tomar nos hace libres”. Joan Garriga \nEste taller es un espacio para sanar a nivel individual y colectivo\, ayudándote a reconocer y abordar situaciones dolorosas de tu historia familiar que pueden estar limitando tu plenitud. A través de las Constelaciones Familiares\, podrás sanar relaciones y patrones que afectan tu bienestar.
URL:https://clarasureda.com/event/taller-de-constelaciones-familiares/
CATEGORIES:Origens
ATTACH;FMTTYPE=image/jpeg:https://clarasureda.com/wp-content/uploads/2024/08/WhatsApp-Image-2024-08-03-at-18.38.41.jpeg
END:VEVENT
END:VCALENDAR